BEGIN:VCALENDAR
VERSION:2.0
PRODID:-//Library Market//iCal Export//EN
BEGIN:VEVENT
SUMMARY:Study Room 3
UID:26631
DTSTAMP:20260423T071500Z
DTSTART:20260421T211500Z
DTEND:20260421T231500Z
LOCATION:Itasca Community Library, 500 W Irving Park Rd., Itasca, IL 60143
 , United States
ROOM: Study Room 3
DESCRIPTION:
URL:https://itasca.librarycalendar.com/index.php/event/study-room-3-26631
END:VEVENT
END:VCALENDAR
